Workbook
Name _X: '[1]Program Sheet'!#REF!
Name _X: '[1]Program Sheet'!#REF!
Name _y: '[1]Program Sheet'!#REF!
Name _y: '[1]Program Sheet'!#REF!
Name AC: '[1]Program Sheet'!$CM$3:$CM$68
Name AUX: '[1]Program Sheet'!$CV$3:$CV$108
Name Temp: '[1]Exercise List'!$A$2:$AZ$2
Name TRD: '[1]Program Sheet'!$CR$3:$CR$36
Name VES: '[1]Program Sheet'!$A$1:$M$1

Sheet Annual Planner
A1: Team Name | B1: 1 | C1: 2 | D1: 3 | E1: 4 | F1: 5 | G1: 6 | H1: 7 | I1: 8 | J1: 9 | K1: 10 | L1: 11 | M1: 12 | N1: 13 | O1: 14 | P1: 15 | Q1: 16 | R1: 17 | S1: 18 | T1: 19 | U1: 20 | V1: 21 | W1: 22 | X1: 23 | Y1: 24 | Z1: 25 | AA1: 26 | AB1: 27 | AC1: 28 | AD1: 29 | AE1: 30 | AF1: 31 | AG1: 32 | AH1: 33 | AI1: 34 | AJ1: 35 | AK1: 36 | AL1: 37 | AM1: 38 | AN1: 39 | AO1: 40 | AP1: 41 | AQ1: 42 | AR1: 43 | AS1: 44 | AT1: 45 | AU1: 46 | AV1: 47 | AW1: 48 | AX1: 49 | AY1: 50 | AZ1: 51 | BA1: 52
A2: Date | B2: 43465 | C2: =B2+7 -> 43472 | D2: =C2+7 -> 43479 | E2: =D2+7 -> 43486 | F2: =E2+7 -> 43493 | G2: =F2+7 -> 43500 | H2: =G2+7 -> 43507 | I2: =H2+7 -> 43514 | J2: =I2+7 -> 43521 | ... BA2: =AZ2+7 -> 43822
A3: Stage | B3: COMPETITION | Q3: OFF | AL3: PRE-COMPETITION | AP3: COMPETITION | AY3: BREAK
A4: Academics | B4: Winter Break | E4: SPING I | K4: EXAM | L4: BREAK | M4: SRING II | T4: BREAK | AK4: FALL I | AV4: BREAK | AW4: FALL II | AY4: WINTER BREAK
A5: Block
A6: Load
A7: Time
A8: Methods
A9: Methods II
A10: Methods III
A11: =Parameters!G1 -> Pre- Lift Running
A12: =Parameters!H1 -> Work
A13: =Parameters!I1 -> Recovery
A14: =Parameters!J1 -> Conditioning
A15: =Parameters!K1 -> Work
A16: Recovery

Sheet Parameters
A1: Blocks | B1: Load | C1: Time | D1: Methods | E1: Methods II | F1: Methods III | G1: Pre- Lift Running | H1: Work | I1: Recovery | J1: Conditioning | K1: Work | L1: Recovery
A2: Ecc | B2: >100% | C2: 5s | D2: Clusters | E2: OC | F2: Bot. 1/2 | G2: Sprints | H2: <10s | I2: Full(90-120s) | J2: Resisted Sprints | K2: <10s | L2: Full(90-120s)
A3: Iso | B3: >80% | C3: <5s | D3: Lac Trap | E3: OC - D | F3: MR Plyo | G3: Sprints - Downhill | H3: >15s | I3: Partial(45-60s) | J3: Sled Pushes | K3: >15s | L3: Partial(45-60s)
A4: Con | B4: 55-80% | C4: 7s | D4: Pot. Clus. | E4: OC - A | F4: ER Plyo | G4: Sprints - Uphill | J4: Sled Pulls | K4: 40s +
A5: Pwr | B5: <55% | C5: <7s | E5: OC - D+1 | G5: Sprints - Stairs | J5: Stair Sprints
A6: Spd | B6: 30-45% | C6: 10s | E6: OC - A+1 | G6: Sprints - Resisted
A7: HypSpd | C7: <10s | G7: Sprints - Assisted
C8: 20s | E8: CS | G8: Contrast- Uphill+Flat
A9: GPP - Aer | B9: .5 m/s | C9: <20s | E9: IOC | G9: Flying 10s
A10: GPP - Lac | B10: .7 m/s | C10: 30s | E10: Reb Drop | G10: Flying 20s
A11: GPP - Alac | C11: <30s | E11: AFSM | G11: Flying 60s
C12: >30s | G12: Flying 90s
A13: Aer Cap
A14: Aer Pwr | C14: 5 - 3 - 7 | G14: Sled Push - Light
A15: Lac Cap | C15: 7 - 5 - 10 | G15: Sled Push - Heavy
A16: Lac Pwr | C16: 15 - 10 - 17 | G16: Sled Pull - Light
A17: Alactic Cap | C17: 25 - 17 - 32 | G17: Sled Pull - Heavy
A18: Alactic Pwr | C18: 32 - 25 - 40 | G18: Contrast - Heavy+Light
C19: 40 - 32 - 47
A20: EXAMPLE | G20: Lateral Push Starts
G21: Mountain Climber Starts
G22: Push up starts
G23: Falling Starts
G24: Skater start
G25: Rollover Starts
G26: Reactive Start Drills
G28: Circle F8
G29: Stair Sprint w/ Circle F8
G31: Cone Drills
G32: Speed Ladder Drills
G33: Line Stop Decel Drill
G34: Wicket Drills
... G45: Bounding small hurdle
